BEGIN:VCALENDAR
VERSION:2.0
PRODID:-//eventon.com NONSGML v1.0//EN
CALSCALE:GREGORIAN
METHOD:PUBLISH
BEGIN:VEVENT
UID:69e9426b4371f
DTSTAMP:20260422T214931Z
DTSTART:20260721T120000Z
DTEND:20260721T150000Z
LOCATION:La Cantina 172 B rue Anatole France
SUMMARY:Geekez l’été à la cantina [Vivez l’été]
DESCRIPTION:L’espace multimédia emmène sa Switch en vacances et pose sa
  valise remplie de jeux multi-joueurs à la Cantina en juillet !\nhttps://m
 ediatheques.villeurbanne.fr/agenda/events/geekez-lete-a-la-cantina-vivez-le
 te-2/
URL:https://mediatheques.villeurbanne.fr/agenda/events/geekez-lete-a-la-cantina-vivez-lete-2/
END:VEVENT
END:VCALENDAR