BEGIN:VCALENDAR
VERSION:2.0
PRODID:-//eventon.com NONSGML v1.0//EN
CALSCALE:GREGORIAN
METHOD:PUBLISH
BEGIN:VEVENT
UID:69e94310ced18
DTSTAMP:20260422T215216Z
DTSTART:20260425T080000Z
DTEND:20260426T160000Z
LOCATION:Maison du livre\,  de l'image et du son 247 cours émile Zola\,  Villeurbanne
SUMMARY:Jeux vidéo subaquatiques [Fête du livre jeunesse]
DESCRIPTION:À travers une sélection de jeux vidéo\,  plongez dans un uni
 vers aquatique où des décors captivants et une immersion sensorielle vous
  entraînent à explorer les profondeurs sous-marines.\nhttps://mediatheque
 s.villeurbanne.fr/agenda/events/jeux-video-subaquatiques-fete-du-livre-jeun
 esse/
URL:https://mediatheques.villeurbanne.fr/agenda/events/jeux-video-subaquatiques-fete-du-livre-jeunesse/
END:VEVENT
END:VCALENDAR