BEGIN:VCALENDAR
VERSION:2.0
PRODID:-//eventon.com NONSGML v1.0//EN
CALSCALE:GREGORIAN
METHOD:PUBLISH
BEGIN:VEVENT
UID:69e9426cde88a
DTSTAMP:20260422T214932Z
DTSTART:20260523T120000Z
DTEND:20260523T140000Z
LOCATION:médiathèque du Rize 23 Rue Valentin Hauy\,  69100 Villeurbanne
SUMMARY:Pierre\,  feuille\,  ruisseau !
DESCRIPTION:Sur réservation en cliquant ici. Découvrez la technique du co
 llage pour illustrer un de vos souvenirs en lien avec l’eau\,  au format 
 carte postale ! &nbsp; En lien avec la saison autour de l'eau du Rize et so
 n exposition Aqua Rize.\nhttps://mediatheques.villeurbanne.fr/agenda/events
 /pierre-feuille-ruisseau/
URL:https://mediatheques.villeurbanne.fr/agenda/events/pierre-feuille-ruisseau/
END:VEVENT
END:VCALENDAR