BEGIN:VCALENDAR
VERSION:2.0
PRODID:-//eventon.com NONSGML v1.0//EN
CALSCALE:GREGORIAN
METHOD:PUBLISH
BEGIN:VEVENT
UID:69e9431186989
DTSTAMP:20260422T215217Z
DTSTART:20260523T073000Z
DTEND:20260523T080000Z
LOCATION:Maison du livre\,  de l'image et du son 247 cours émile Zola\,  Villeurbanne
SUMMARY:La demi-heure calme
DESCRIPTION:Une expérimentation "temps calme" en bibliothèque : l'espace 
 jeunesse vous accueille en dehors des horaires d’ouverture tout public. C
 e temps est destiné aux enfants en situation de handicap ou sensibles au b
 ruit et à l’agitation (troubles du spectre de l’autisme\,  hypersensib
 ilités\,  troubles de l’attention\,  anxiété…). Les personnes prése
 ntes dans la[..]\nhttps://mediatheques.villeurbanne.fr/agenda/events/la-dem
 i-heure-calme/
URL:https://mediatheques.villeurbanne.fr/agenda/events/la-demi-heure-calme/
END:VEVENT
END:VCALENDAR