BEGIN:VCALENDAR
VERSION:2.0
PRODID:-//eventon.com NONSGML v1.0//EN
CALSCALE:GREGORIAN
METHOD:PUBLISH
BEGIN:VEVENT
UID:69e94311308be
DTSTAMP:20260422T215217Z
DTSTART:20260520T130000Z
DTEND:20260520T150000Z
LOCATION:Maison du livre\,  de l'image et du son 247 cours Ã©mile Zola\,  Villeurbanne
SUMMARY:Fresque participative avec Mario Auburtin [En Transes]
DESCRIPTION:Sur inscription en cliquant ici. Participez Ã  la crÃ©ation dâ€
 ™une fresque collective dans lâ€™espace dâ€™immersion liÃ©e Ã  la thÃ©matiq
 ue de la Transe\,  avec Mario Auburtin\,  alias Spone. Artiste engagÃ© depu
 is plus de 15 ans\,  Spone explore notre lien au vivant Ã  travers des form
 es inspirÃ©es de la nature et un[..]\nhttps://mediatheques.villeurbanne.fr/
 agenda/events/fresque-participative-avec-mario-auburtin-en-transes/
URL:https://mediatheques.villeurbanne.fr/agenda/events/fresque-participative-avec-mario-auburtin-en-transes/
END:VEVENT
END:VCALENDAR