BEGIN:VCALENDAR
VERSION:2.0
PRODID:-//eventon.com NONSGML v1.0//EN
CALSCALE:GREGORIAN
METHOD:PUBLISH
BEGIN:VEVENT
UID:69e942789baa0
DTSTAMP:20260422T214944Z
DTSTART:20260606T180000Z
DTEND:20260606T200000Z
LOCATION:médiathèque du Rize 23 Rue Valentin Hauy\,  69100 Villeurbanne
SUMMARY:Escale musicale : transe\,  esprit et musique gnaoua [En transes]
DESCRIPTION:Sur inscription en cliquant ici En partenariat avec le CMTRA\, 
  plongez dans l’univers de Gnaoua Roots. Une cérémonie vivante où chan
 ts\,  guembri\,  qraqebs et danse célèbrent l’héritage spirituel Gnaou
 a. Gnaoua Roots est un groupe fondé par Maâlem Zakaria\,  porteur d’une
  tradition ancestrale et héritier de l’esprit Gnaoua\,  profondément en
 raciné dans[..]\nhttps://mediatheques.villeurbanne.fr/agenda/events/escale
 -musicale-transe-esprit-et-musique-gnaoua-en-transes-2/
URL:https://mediatheques.villeurbanne.fr/agenda/events/escale-musicale-transe-esprit-et-musique-gnaoua-en-transes-2/
END:VEVENT
END:VCALENDAR