BEGIN:VCALENDAR
VERSION:2.0
PRODID:-//eventon.com NONSGML v1.0//EN
CALSCALE:GREGORIAN
METHOD:PUBLISH
BEGIN:VEVENT
UID:69e9434d24b70
DTSTAMP:20260422T215317Z
DTSTART:20260606T153000Z
DTEND:20260606T163000Z
LOCATION:médiathèque du Rize 23 Rue Valentin Hauy\,  69100 Villeurbanne
SUMMARY:Escale musicale : transe\,  esprit et musique gnaoua [En transes]
DESCRIPTION:Sur inscription en cliquant ici En partenariat avec le CMTRA\, 
  découvrez les sonorités Gnaoua avec Gnaoua Roots. Un atelier pour explor
 er guembri\,  qraqebs et rythmes vibrants d’une musique ancestrale.\nhttp
 s://mediatheques.villeurbanne.fr/agenda/events/escale-musicale-transe-espri
 t-et-musique-gnaoua-en-transes/
URL:https://mediatheques.villeurbanne.fr/agenda/events/escale-musicale-transe-esprit-et-musique-gnaoua-en-transes/
END:VEVENT
END:VCALENDAR