BEGIN:VCALENDAR
VERSION:2.0
PRODID:-//eventon.com NONSGML v1.0//EN
CALSCALE:GREGORIAN
METHOD:PUBLISH
BEGIN:VEVENT
UID:69e942172ad38
DTSTAMP:20260422T214807Z
DTSTART:20260610T143000Z
DTEND:20260610T150000Z
LOCATION:médiathèque du Tonkin
SUMMARY:Chouette des histoires !
DESCRIPTION:Sur inscription en cliquant ici ou par téléphone au 04 78 89 
 78 90 - Ouverture des inscriptions 15 jours avant la date de l'animation. P
 artez en voyage au cœur des livres. Tout un monde d'histoires ! Durée : 3
 0 min\nhttps://mediatheques.villeurbanne.fr/agenda/events/chouette-des-hist
 oires-3/
URL:https://mediatheques.villeurbanne.fr/agenda/events/chouette-des-histoires-3/
END:VEVENT
END:VCALENDAR