BEGIN:VCALENDAR
VERSION:2.0
PRODID:-//eventon.com NONSGML v1.0//EN
CALSCALE:GREGORIAN
METHOD:PUBLISH
BEGIN:VEVENT
UID:69e9436e680b4
DTSTAMP:20260422T215350Z
DTSTART:20260424T160000Z
DTEND:20260424T180000Z
LOCATION:CinÃ©ma Le Zola 117 cours emile zola 69100 Villeurbanne
SUMMARY:La lÃ©gende d'Ochi [FÃªte du livre jeunesse]
DESCRIPTION:Film rÃ©alisÃ© par Isaiah Saxon (2024)\,  en projection au cinÃ
 ©ma le Zola. PrÃ©vente sur https://www.lezola.com/ aux tarifs habituels de 
 la salle. Dans le cadre de la fÃªte du livre jeunesse\,  lors de 6 sÃ©ances
  intitulÃ©es "Prenez les clefs du cinÃ©!"\,  neuf jeunes programmateurs de 
 10 Ã  15 ans se sont[..]\nhttps://mediatheques.villeurbanne.fr/agenda/event
 s/la-legende-dochi-realise-par-isaiah-saxon-2024-fete-du-livre-jeunesse/
URL:https://mediatheques.villeurbanne.fr/agenda/events/la-legende-dochi-realise-par-isaiah-saxon-2024-fete-du-livre-jeunesse/
END:VEVENT
END:VCALENDAR