BEGIN:VCALENDAR
VERSION:2.0
PRODID:-//eventon.com NONSGML v1.0//EN
CALSCALE:GREGORIAN
METHOD:PUBLISH
BEGIN:VEVENT
UID:69e9430bc5f05
DTSTAMP:20260422T215211Z
DTSTART:20260530T123000Z
DTEND:20260530T130000Z
LOCATION:Maison du livre\,  de l'image et du son 247 cours émile Zola\,  Villeurbanne
SUMMARY:Ligne A Capella : concert par le choeur Spirito
DESCRIPTION:14 Stations\,  14 concerts\,  3 villes. La Maison du livre accu
 eille le choeur Spirito sur son parcours de la ligne de métro A. À traver
 s cette initiative\,  le Chœur Spirito parcourra cette trajectoire urbaine
 \,  incarnant la diversité et la richesse des publics de la métropole lyo
 nnaise\,  depuis l’école primaire jusqu’aux[..]\nhttps://mediatheques.
 villeurbanne.fr/agenda/events/concert-ligne-a-capella-par-le-choeur-spirito
 /
URL:https://mediatheques.villeurbanne.fr/agenda/events/concert-ligne-a-capella-par-le-choeur-spirito/
END:VEVENT
END:VCALENDAR