BEGIN:VCALENDAR
VERSION:2.0
PRODID:-//eventon.com NONSGML v1.0//EN
CALSCALE:GREGORIAN
METHOD:PUBLISH
BEGIN:VEVENT
UID:69e9429a91e2b
DTSTAMP:20260422T215018Z
DTSTART:20260520T080000Z
DTEND:20260520T093000Z
LOCATION:Maison du livre\,  de l'image et du son 247 cours émile Zola\,  Villeurbanne
SUMMARY:Atelier de pratique artistique
DESCRIPTION:Sur inscription Au programme : exploration de la théâtralité
  du corps\,  création d’histoires avec des objets\,  création d’un im
 aginaire commun dans le silence.&nbsp; Cet atelier est sans paroles et acce
 ssible à toutes et tous\,  personnes sourdes comme entendantes. Tout publi
 c\,  enfant bienvenu à partir de 6 ans accompagné d’un adulte.[..]\nhtt
 ps://mediatheques.villeurbanne.fr/agenda/events/atelier-de-pratique-artisti
 que-semaine-des-handicaps/
URL:https://mediatheques.villeurbanne.fr/agenda/events/atelier-de-pratique-artistique-semaine-des-handicaps/
END:VEVENT
END:VCALENDAR