BEGIN:VCALENDAR
VERSION:2.0
PRODID:-//eventon.com NONSGML v1.0//EN
CALSCALE:GREGORIAN
METHOD:PUBLISH
BEGIN:VEVENT
UID:69e94310d136d
DTSTAMP:20260422T215216Z
DTSTART:20260620T140000Z
DTEND:20260620T150000Z
LOCATION:Maison du livre\,  de l'image et du son 247 cours Ã©mile Zola\,  Villeurbanne
SUMMARY:Baby boum [En transes]
DESCRIPTION:Les comptines en mode dancefloor et vocodeur.Qui a dit que le d
 ancefloor Ã©lectro Ã©tait rÃ©servÃ© aux adultes ? EntourÃ©s de leurs synthÃ
 ©tiseurs favoris et de leurs boites Ã  rythmes pÃªchues\,  Franck et Teddy 
 vous invitent Ã  venir danser et sauter sur des comptines revisitÃ©es autan
 t que sur des crÃ©ations originales.Qui[..]\nhttps://mediatheques.villeurba
 nne.fr/agenda/events/baby-boum-en-transes/
URL:https://mediatheques.villeurbanne.fr/agenda/events/baby-boum-en-transes/
END:VEVENT
END:VCALENDAR