BEGIN:VCALENDAR
VERSION:2.0
PRODID:-//eventon.com NONSGML v1.0//EN
CALSCALE:GREGORIAN
METHOD:PUBLISH
BEGIN:VEVENT
UID:69e9436e0f7a5
DTSTAMP:20260422T215350Z
DTSTART:20260606T081500Z
DTEND:20260606T091500Z
LOCATION:Maison du livre\,  de l'image et du son 247 cours Ã©mile Zola\,  Villeurbanne
SUMMARY:Lire avec les tout-petits ?
DESCRIPTION:Sur inscription en cliquant ici : ouverture des inscriptions le
  dernier samedi du mois\,  pour la sÃ©ance du mois suivant. Rencontre entre
  les 0-4 ans\,  leurs adultes\,  une sÃ©lection de livres et les bibliothÃ©
 caires.Â Â Est-ce que la lecture va s'installer ? A chacun son rythme...Â Â
  \nhttps://mediatheques.villeurbanne.fr/agenda/events/lire-avec-les-tout-pe
 tits-2/
URL:https://mediatheques.villeurbanne.fr/agenda/events/lire-avec-les-tout-petits-2/
END:VEVENT
END:VCALENDAR