BEGIN:VCALENDAR
VERSION:2.0
PRODID:-//eventon.com NONSGML v1.0//EN
CALSCALE:GREGORIAN
METHOD:PUBLISH
BEGIN:VEVENT
UID:69e943223ad2f
DTSTAMP:20260422T215234Z
DTSTART:20260523T083000Z
DTEND:20260523T090000Z
LOCATION:Maison du livre\,  de l'image et du son 247 cours émile Zola\,  Villeurbanne
SUMMARY:Rendez-vous contes !
DESCRIPTION:Sur inscription en cliquant ici : ouverture des inscriptions le
  dernier samedi du mois\,  pour la séance du mois suivant. 1 place = 1 per
 sonne\,  les adultes accompagnant doivent également s’inscrire. Aurélie
  Loiseau\,  conteuse-glaneuse\,  nous entraine dans son univers pétillant 
 et poétique\,  mêlant récits\,  mouvements et bruitages.\nhttps://mediat
 heques.villeurbanne.fr/agenda/events/rendez-vous-contes/
URL:https://mediatheques.villeurbanne.fr/agenda/events/rendez-vous-contes/
END:VEVENT
END:VCALENDAR