BEGIN:VCALENDAR
VERSION:2.0
PRODID:-//eventon.com NONSGML v1.0//EN
CALSCALE:GREGORIAN
METHOD:PUBLISH
BEGIN:VEVENT
UID:69e9435d6a213
DTSTAMP:20260422T215333Z
DTSTART:20260624T123000Z
DTEND:20260624T153000Z
LOCATION:Maison du livre\,  de l'image et du son 247 cours Ã©mile Zola\,  Villeurbanne
SUMMARY:On joue ?
DESCRIPTION:Un temps libre et un espace dÃ©diÃ© pour tester des jeux comme 
 dans une ludothÃ¨que ! En famille\,  entre amis\,  en solo\,  en duo : des 
 jeux d'observation\,  des puzzles\,  des jeux de coopÃ©ration... Les biblio
 thÃ©caires vous expliquent les rÃ¨gles\,  la stratÃ©gie\,  et peut-Ãªtre mÃ
 ªme les coups de bluff pour[..]\nhttps://mediatheques.villeurbanne.fr/agend
 a/events/on-joue-3/
URL:https://mediatheques.villeurbanne.fr/agenda/events/on-joue-3/
END:VEVENT
END:VCALENDAR