BEGIN:VCALENDAR
VERSION:2.0
PRODID:-//eventon.com NONSGML v1.0//EN
CALSCALE:GREGORIAN
METHOD:PUBLISH
BEGIN:VEVENT
UID:69e9436ed3f77
DTSTAMP:20260422T215350Z
DTSTART:20260610T073000Z
DTEND:20260610T083000Z
LOCATION:Maison du livre\,  de l'image et du son 247 cours Ã©mile Zola\,  Villeurbanne
SUMMARY:Bouquins cÃ¢lins
DESCRIPTION:Ouverture des inscriptions Ã  14h\,  le mercredi 20 mai\,  pour
  les sÃ©ances du 27 mai\,  3\,  10\,  17 et 24 juin et 1er juilletÂ (limitÃ
 ©es Ã  1 sÃ©ance sur la pÃ©riode). Sur inscription en cliquant ici. Histoir
 es\,  chansons\,  jeux de doigts \,  les bÃ©bÃ©s et enfants de moins de tro
 is ans[..]\nhttps://mediatheques.villeurbanne.fr/agenda/events/bouquins-cal
 ins-6/
URL:https://mediatheques.villeurbanne.fr/agenda/events/bouquins-calins-6/
END:VEVENT
END:VCALENDAR