BEGIN:VCALENDAR
VERSION:2.0
PRODID:-//eventon.com NONSGML v1.0//EN
CALSCALE:GREGORIAN
METHOD:PUBLISH
BEGIN:VEVENT
UID:69e9430bc7289
DTSTAMP:20260422T215211Z
DTSTART:20260520T073000Z
DTEND:20260520T083000Z
LOCATION:Maison du livre\,  de l'image et du son 247 cours Ã©mile Zola\,  Villeurbanne
SUMMARY:Bouquins cÃ¢lins
DESCRIPTION:Ouverture des inscriptions Ã  14h\,  le mercredi 1er avril\,  p
 our les sÃ©ances du 22\,  29 avril\,  6\,  13 et 20 maiÂ (limitÃ©es Ã  1 sÃ
 ©ance sur la pÃ©riode). Sur inscription en cliquant ici. Histoires\,  chans
 ons\,  jeux de doigts \,  les bÃ©bÃ©s et enfants de moins de trois ans part
 ent Ã  la[..]\nhttps://mediatheques.villeurbanne.fr/agenda/events/bouquins-
 calins-3/
URL:https://mediatheques.villeurbanne.fr/agenda/events/bouquins-calins-3/
END:VEVENT
END:VCALENDAR