BEGIN:VCALENDAR
VERSION:2.0
PRODID:-//eventon.com NONSGML v1.0//EN
CALSCALE:GREGORIAN
METHOD:PUBLISH
BEGIN:VEVENT
UID:69e943a2aa775
DTSTAMP:20260422T215442Z
DTSTART:20260627T083000Z
DTEND:20260627T090000Z
LOCATION:Maison du livre\,  de l'image et du son 247 cours émile Zola\,  Villeurbanne
SUMMARY:Chouette\,  des histoires !
DESCRIPTION:Sur inscription en cliquant ici : ouverture des inscriptions le
  dernier samedi du mois\,  pour la séance du mois suivant. Les bibliothéc
 aires lisent contes et albums pour le plaisir des oreilles et des yeux.\nht
 tps://mediatheques.villeurbanne.fr/agenda/events/chouette-des-histoires-7/
URL:https://mediatheques.villeurbanne.fr/agenda/events/chouette-des-histoires-7/
END:VEVENT
END:VCALENDAR