BEGIN:VCALENDAR
VERSION:2.0
PRODID:-//eventon.com NONSGML v1.0//EN
CALSCALE:GREGORIAN
METHOD:PUBLISH
BEGIN:VEVENT
UID:69e9434d5012d
DTSTAMP:20260422T215317Z
DTSTART:20260516T083000Z
DTEND:20260516T090000Z
LOCATION:Maison du livre\,  de l'image et du son 247 cours émile Zola\,  Villeurbanne
SUMMARY:Chouette\,  des histoires !
DESCRIPTION:Sur inscription en cliquant ici : ouverture des inscriptions le
  dernier samedi du mois\,  pour la séance du mois suivant. Les bibliothéc
 aires lisent contes et albums pour le plaisir des oreilles et des yeux.\nht
 tps://mediatheques.villeurbanne.fr/agenda/events/chouette-des-histoires-6/
URL:https://mediatheques.villeurbanne.fr/agenda/events/chouette-des-histoires-6/
END:VEVENT
END:VCALENDAR