BEGIN:VCALENDAR
VERSION:2.0
PRODID:-//eventon.com NONSGML v1.0//EN
CALSCALE:GREGORIAN
METHOD:PUBLISH
BEGIN:VEVENT
UID:69e942bd93a6e
DTSTAMP:20260422T215053Z
DTSTART:20260523T123000Z
DTEND:20260523T143000Z
LOCATION:Maison du livre\,  de l'image et du son 247 cours Ã©mile Zola\,  Villeurbanne
SUMMARY:La voix des otakus
DESCRIPTION:Sur inscription Ã  la mÃ©diathÃ¨que adultes de la maison du liv
 re. Vous souhaitez participer Ã  lâ€™achat des mangas pour la mÃ©diathÃ¨que
  ? Ce rendezâ€‘vous mensuel est fait pour vous ! Une sÃ©lection de mangas Ã
   dÃ©couvrir et Ã  lire pour dÃ©battre et choisir ceux qui serontÂ achetÃ©s
 .Pour plus d'infos et inscription[..]\nhttps://mediatheques.villeurbanne.fr
 /agenda/events/la-voix-des-otakus/
URL:https://mediatheques.villeurbanne.fr/agenda/events/la-voix-des-otakus/
END:VEVENT
END:VCALENDAR