BEGIN:VCALENDAR
VERSION:2.0
PRODID:-//eventon.com NONSGML v1.0//EN
CALSCALE:GREGORIAN
METHOD:PUBLISH
BEGIN:VEVENT
UID:69e942bdf16a2
DTSTAMP:20260422T215053Z
DTSTART:20260519T160000Z
DTEND:20260519T180000Z
LOCATION:Maison du livre\,  de l'image et du son 247 cours émile Zola\,  Villeurbanne
SUMMARY:À perte de vue : projection en audiodescription
DESCRIPTION:Un documentaire de Carla et Pierre Petit\,  Meije Productions\,
   2024. "Quand je suis au galop\,  je me sens cheval." Carla Petit "Submerg
 ée par les bruits\,  les sons\,  les odeurs\,  les frôlements des chaland
 s du marché de Bichkek (Kirghizstan)\,  la jeune femme rassemble\,  une fo
 is encore\,  en elle-même\,  tout ce qui[..]\nhttps://mediatheques.villeur
 banne.fr/agenda/events/projection-en-audiodescription-a-perte-de-vue-un-doc
 umentaire-de-carla-et-pierre-petit-semaine-des-handicaps-de-villeurbanne/
URL:https://mediatheques.villeurbanne.fr/agenda/events/projection-en-audiodescription-a-perte-de-vue-un-documentaire-de-carla-et-pierre-petit-semaine-des-handicaps-de-villeurbanne/
END:VEVENT
END:VCALENDAR