BEGIN:VCALENDAR
VERSION:2.0
PRODID:-//eventon.com NONSGML v1.0//EN
CALSCALE:GREGORIAN
METHOD:PUBLISH
BEGIN:VEVENT
UID:69e94322138c4
DTSTAMP:20260422T215234Z
DTSTART:20260612T160000Z
DTEND:20260612T173000Z
LOCATION:Maison du livre\,  de l'image et du son 247 cours émile Zola\,  Villeurbanne
SUMMARY:La transe cognitive auto-induite [En transes]
DESCRIPTION:Conférence proposée par Audrey Breton\,  chercheuse à l'asso
 ciation TranceScience. La Transe Cognitive Auto-Induite (TCAI) est un état
  non-ordinaire de conscience\,  au même titre que la méditation ou l’hy
 pnose\,  accessible par la seule volonté\,  sans stimulation extérieure o
 u prise de substance. Elle s’apprend en quelques jours grâce à une mét
 hode standardisée.[..]\nhttps://mediatheques.villeurbanne.fr/agenda/events
 /la-transe-auto-induite-en-transes/
URL:https://mediatheques.villeurbanne.fr/agenda/events/la-transe-auto-induite-en-transes/
END:VEVENT
END:VCALENDAR