BEGIN:VCALENDAR
VERSION:2.0
PRODID:-//eventon.com NONSGML v1.0//EN
CALSCALE:GREGORIAN
METHOD:PUBLISH
BEGIN:VEVENT
UID:69e9424fee8fb
DTSTAMP:20260422T214903Z
DTSTART:20260619T160000Z
DTEND:20260619T173000Z
LOCATION:Maison du livre\,  de l'image et du son 247 cours émile Zola\,  Villeurbanne
SUMMARY:Professeur El Mouhoub Mouhoud : rencontre autour de son livre "Le Prénom"
DESCRIPTION:Rencontre avec le professeur El Mouhoub Mouhoud pour la présen
 tation/discussion autour de son livre Le Prénom : Esquisse pour une auto-h
 istoire de l’immigration algérienne. « Mon parcours est loin d’être 
 exceptionnel. Il témoigne simplement que l’émigration et les réussites
  sociales individuelles des immigrés et de leurs descendants sont le produ
 it[..]\nhttps://mediatheques.villeurbanne.fr/agenda/events/rencontre-avec-l
 e-professeur-el-mouhoub-mouhoud-autour-de-son-livre-le-prenom/
URL:https://mediatheques.villeurbanne.fr/agenda/events/rencontre-avec-le-professeur-el-mouhoub-mouhoud-autour-de-son-livre-le-prenom/
END:VEVENT
END:VCALENDAR