BEGIN:VCALENDAR
VERSION:2.0
PRODID:-//eventon.com NONSGML v1.0//EN
CALSCALE:GREGORIAN
METHOD:PUBLISH
BEGIN:VEVENT
UID:69e942ddd14f2
DTSTAMP:20260422T215125Z
DTSTART:20260523T140000Z
DTEND:20260523T160000Z
LOCATION:Maison du livre\,  de l'image et du son 247 cours émile Zola\,  Villeurbanne
SUMMARY:Bestiaires des mondes d’Aldebaran\,  comment la science-fiction s’empare de la réalité biologique
DESCRIPTION:Conférence au tour du monde d’Aldebaran\,  univers de bande 
 dessinée crée par Léo. Dans cet univers\,  les animaux fantastiques sont
  nombreux. Rencontrez Olivia Le Moëne\,  autrice du livre Le bestiaire des
  mondes d'Aldébaran\,  qui réunit\,  pour la première fois\,  la plupart
  des créatures (une centaine) imaginées par Leo. Des Iums[..]\nhttps://me
 diatheques.villeurbanne.fr/agenda/events/bestiaires-des-mondes-daldebaran-c
 omment-la-science-fiction-sempare-de-la-realite-biologique/
URL:https://mediatheques.villeurbanne.fr/agenda/events/bestiaires-des-mondes-daldebaran-comment-la-science-fiction-sempare-de-la-realite-biologique/
END:VEVENT
END:VCALENDAR