BEGIN:VCALENDAR
VERSION:2.0
PRODID:-//eventon.com NONSGML v1.0//EN
CALSCALE:GREGORIAN
METHOD:PUBLISH
BEGIN:VEVENT
UID:69e943a2a3416
DTSTAMP:20260422T215442Z
DTSTART:20260718T090000Z
DTEND:20260718T100000Z
LOCATION:médiathèque du Tonkin
SUMMARY:Lectures au Potakin [Vivez l'été]
DESCRIPTION:Les bibliothécaires vous donnent rendez-vous au Potakin (43 ru
 e du Tonkin) pour des lectures sous les arbres. Pour toute la famille\,  sa
 ns inscription. Cette activité se déroule en plein air\,  prévoir les ch
 apeaux et casquettes en cas de soleil !  \nhttps://mediatheques.villeurban
 ne.fr/agenda/events/lectures-au-potakin-vivez-lete-2/
URL:https://mediatheques.villeurbanne.fr/agenda/events/lectures-au-potakin-vivez-lete-2/
END:VEVENT
END:VCALENDAR