BEGIN:VCALENDAR
VERSION:2.0
PRODID:-//eventon.com NONSGML v1.0//EN
CALSCALE:GREGORIAN
METHOD:PUBLISH
BEGIN:VEVENT
UID:69e94311cfdf1
DTSTAMP:20260422T215217Z
DTSTART:20260617T150000Z
DTEND:20260617T163000Z
LOCATION:Bibliobus (Buers) 3 rue professeur Emile Bouvier
SUMMARY:Fresque du bibliobus : inauguration
DESCRIPTION:Pendant plusieurs semaines\,  des jeunes du quartier des Buers 
 ont imaginé et peint une fresque avec l’artiste M. Morice sur la porte d
 u garage du bibliobus. Nous vous invitons à un temps festif pour inaugurer
  cette création collective\,  revenir en images sur les étapes du projet 
 et partager un goûter.[..]\nhttps://mediatheques.villeurbanne.fr/agenda/ev
 ents/inauguration-de-la-fresque-du-bibliobus/
URL:https://mediatheques.villeurbanne.fr/agenda/events/inauguration-de-la-fresque-du-bibliobus/
END:VEVENT
END:VCALENDAR