BEGIN:VCALENDAR
VERSION:2.0
PRODID:-//eventon.com NONSGML v1.0//EN
CALSCALE:GREGORIAN
METHOD:PUBLISH
BEGIN:VEVENT
UID:69e9435e34519
DTSTAMP:20260422T215334Z
DTSTART:20260627T173000Z
DTEND:20260626T220000Z
LOCATION:CCVA 234 Cr Emile Zola\,  69100 Villeurbanne
SUMMARY:Bal folk : Roger Moure et les Zéoles [En transes]
DESCRIPTION:En partenariat avec l'association La Campanule. 19h30 : initiat
 ion au bal trad 20h30 : Roger Moure et son banjo électrifié 22h : Les Zé
 oles\,  duo d'accordéons Sortez vos souliers de danse&nbsp;! En couple ou 
 en solo\,  venez chauffer le parquet de la salle de bal du CCVA jusqu’à 
 la fin[..]\nhttps://mediatheques.villeurbanne.fr/agenda/events/bal-folk-rog
 er-moure-et-les-zeoles-en-transes/
URL:https://mediatheques.villeurbanne.fr/agenda/events/bal-folk-roger-moure-et-les-zeoles-en-transes/
END:VEVENT
END:VCALENDAR