BEGIN:VCALENDAR
VERSION:2.0
PRODID:-//eventon.com NONSGML v1.0//EN
CALSCALE:GREGORIAN
METHOD:PUBLISH
BEGIN:VEVENT
UID:69e94321405d4
DTSTAMP:20260422T215233Z
DTSTART:20260606T120000Z
DTEND:20260606T153000Z
LOCATION:Maison du livre\,  de l'image et du son 247 cours émile Zola\,  Villeurbanne
SUMMARY:Jeux vidéo en famille
DESCRIPTION:Sur inscription en cliquant ici ou par téléphone au 04 78 68 
 04 04. Prenez le temps de découvrir des jeux fun en famille. Attention\,  
 les adultes accompagnant les enfants sont FORTEMENT incités à jouer aussi
  ! Dès 8 ans Durée d'un créneau : 30 minutes  \nhttps://mediatheques.vi
 lleurbanne.fr/agenda/events/jeux-video-en-famille-4/
URL:https://mediatheques.villeurbanne.fr/agenda/events/jeux-video-en-famille-4/
END:VEVENT
END:VCALENDAR