BEGIN:VCALENDAR
VERSION:2.0
PRODID:-//eventon.com NONSGML v1.0//EN
CALSCALE:GREGORIAN
METHOD:PUBLISH
BEGIN:VEVENT
UID:69e9434c4d7a7
DTSTAMP:20260422T215316Z
DTSTART:20260613T160000Z
DTEND:20260613T173000Z
LOCATION:Maison du livre\,  de l'image et du son 247 cours émile Zola\,  Villeurbanne
SUMMARY:Ti'Kaniki : concert maloya [En Transes]
DESCRIPTION:Concert en plein air au parc de la France-Libre et de la Résis
 tance. En partenariat avec l'Archipel\,  tiers lieu alimentaire et social. 
 Ti’kaniki est un groupe de maloya basé à Lyon\,  depuis bientôt 10 ans
 . Le groupe est constitué de créoles et de musiciens métropolitains aux 
 origines diverses. Ils revendiquent[..]\nhttps://mediatheques.villeurbanne.
 fr/agenda/events/concert-maloya-tikaniki-en-transes/
URL:https://mediatheques.villeurbanne.fr/agenda/events/concert-maloya-tikaniki-en-transes/
END:VEVENT
END:VCALENDAR