BEGIN:VCALENDAR
VERSION:2.0
PRODID:-//eventon.com NONSGML v1.0//EN
CALSCALE:GREGORIAN
METHOD:PUBLISH
BEGIN:VEVENT
UID:69e942bd97967
DTSTAMP:20260422T215053Z
DTSTART:20260627T150000Z
DTEND:20260627T170000Z
LOCATION:Maison du livre\,  de l'image et du son 247 cours Ã©mile Zola\,  Villeurbanne
SUMMARY:Le Grand bal\,  un film de Laetitia Carton [En transes]
DESCRIPTION:(2018\,  Sanosi productions) La projection est suivie d'une ren
 contre avec Laetitia Carton\,  d'une initiation au bal folk Ã  19h30 et d'u
 n bal Ã  20h30 au CCVA de Villeurbanne. Â«Â Ce film sur le Grand Bal\,  câ€
 ™est un film sur la joie. Celle dâ€™Ãªtre vivant\,  de danser\,  de partage
 r la danse et[..]\nhttps://mediatheques.villeurbanne.fr/agenda/events/le-gr
 and-bal-un-film-realise-par-laetitia-carton-2018-sanosi-productions-cycle-t
 ranse/
URL:https://mediatheques.villeurbanne.fr/agenda/events/le-grand-bal-un-film-realise-par-laetitia-carton-2018-sanosi-productions-cycle-transe/
END:VEVENT
END:VCALENDAR