BEGIN:VCALENDAR
VERSION:2.0
PRODID:-//eventon.com NONSGML v1.0//EN
CALSCALE:GREGORIAN
METHOD:PUBLISH
BEGIN:VEVENT
UID:69e9427866f85
DTSTAMP:20260422T214944Z
DTSTART:20260620T120000Z
DTEND:20260620T140000Z
LOCATION:Maison du livre\,  de l'image et du son 247 cours émile Zola\,  Villeurbanne
SUMMARY:Wind wand : fabrication d’instrument [En transes]
DESCRIPTION:Sur inscription en cliquant ici à partir du mercredi 20 mai. F
 abriquez et faites sonner collectivement votre Wind Wand tel un orchestre b
 ourdonnant . En anglais bull-roarer\,  le rhombe ou arc bourdonnant est un 
 instrument à air primitif\,  constitué d’une planchette de corne\,  de 
 bois\,  d’os ou de métal de[..]\nhttps://mediatheques.villeurbanne.fr/ag
 enda/events/atelier-wind-wand-fabrication-dinstrument-cycle-transe/
URL:https://mediatheques.villeurbanne.fr/agenda/events/atelier-wind-wand-fabrication-dinstrument-cycle-transe/
END:VEVENT
END:VCALENDAR