BEGIN:VCALENDAR
VERSION:2.0
PRODID:-//eventon.com NONSGML v1.0//EN
CALSCALE:GREGORIAN
METHOD:PUBLISH
BEGIN:VEVENT
UID:69e942de95ad8
DTSTAMP:20260422T215126Z
DTSTART:20260627T090000Z
DTEND:20260627T100000Z
LOCATION:Maison du livre\,  de l'image et du son 247 cours émile Zola\,  Villeurbanne
SUMMARY:Enlivrez-vous spécial lectures d'été
DESCRIPTION:Inscription pour la présentation d'un livre en cliquant ici (o
 uverture un mois avant) Vous cherchez de l'inspiration pour vos lectures d'
 été? Retrouvons-nous pour échanger nos coups de cœur et pourquoi pas re
 partir avec un roman\,  une bande-dessinée\,  un essai\,  une revue&nbsp;o
 u même un film à mettre dans votre valise! Les[..]\nhttps://mediatheques.
 villeurbanne.fr/agenda/events/enlivrez-vous-special-lectures-dete/
URL:https://mediatheques.villeurbanne.fr/agenda/events/enlivrez-vous-special-lectures-dete/
END:VEVENT
END:VCALENDAR