BEGIN:VCALENDAR
VERSION:2.0
PRODID:-//eventon.com NONSGML v1.0//EN
CALSCALE:GREGORIAN
METHOD:PUBLISH
BEGIN:VEVENT
UID:69e9432140cbe
DTSTAMP:20260422T215233Z
DTSTART:20260530T140000Z
DTEND:20260530T160000Z
LOCATION:Maison du livre\,  de l'image et du son 247 cours émile Zola\,  Villeurbanne
SUMMARY:Rencontre-dédicace avec Vidya Gastaldon autour de son roman "Bleu Extase" [En transes]
DESCRIPTION:Dans le cadre de l'exposition Visionium Alphabet\,  l'artothèq
 ue organise une rencontre avec Vidya Gastaldon autour de son roman Bleu Ext
 ase paru en 2024 chez art&fiction. 1994\,  une rave. Une jeune femme\,  Fle
 ur\,  se retrouve prise dans une expérience initiatique. Elle se découvre
  au cœur d’un océan de perceptions. À travers[..]\nhttps://mediatheque
 s.villeurbanne.fr/agenda/events/rencontre-avec-vidya-gastaldon/
URL:https://mediatheques.villeurbanne.fr/agenda/events/rencontre-avec-vidya-gastaldon/
END:VEVENT
END:VCALENDAR