BEGIN:VCALENDAR
VERSION:2.0
PRODID:-//eventon.com NONSGML v1.0//EN
CALSCALE:GREGORIAN
METHOD:PUBLISH
BEGIN:VEVENT
UID:69e9436e97247
DTSTAMP:20260422T215350Z
DTSTART:20260521T163000Z
DTEND:20260521T183000Z
LOCATION:Maison du livre\,  de l'image et du son 247 cours émile Zola\,  Villeurbanne
SUMMARY:Vidya Gastaldon. Visionium Alphabet : vernissage [En transes]
DESCRIPTION:Pour son exposition à l'artothèque\,  Vidya Gastaldon présen
 te une série de peintures colorées qui reprennent l’alphabet romain\,  
 en empruntant le dessin de caractère à un alphabet pour enfants en bois t
 rès répandu. Chacune des lettres est associée à une couleur et à des m
 otifs ornementaux. L’alphabet permet\,  en le lisant[..]\nhttps://mediath
 eques.villeurbanne.fr/agenda/events/vidya-gastaldon-visionium-alphabet-2/
URL:https://mediatheques.villeurbanne.fr/agenda/events/vidya-gastaldon-visionium-alphabet-2/
END:VEVENT
END:VCALENDAR