BEGIN:VCALENDAR
VERSION:2.0
PRODID:-//eventon.com NONSGML v1.0//EN
CALSCALE:GREGORIAN
METHOD:PUBLISH
BEGIN:VEVENT
UID:69e92d79ea49d
DTSTAMP:20260422T202009Z
DTSTART:20260606T120000Z
DTEND:20260606T130000Z
LOCATION:Maison du livre\,  de l'image et du son 247 cours émile Zola\,  Villeurbanne
SUMMARY:Zentangle : atelier de dessin [En transes]
DESCRIPTION:Sur inscription en cliquant ici à partir du 6 mai. Le concept 
 du flow ou expérience autotélique est théorisé en 1975 par le psycholog
 ue Mihály Csíkszentmihályi. Il s’agit d’un état mental atteint par 
 une personne lorsqu'elle est complètement plongée dans une activité et q
 u'elle se trouve dans un état maximal[..]\nhttps://mediatheques.villeurban
 ne.fr/agenda/events/atelier-de-dessin-zentangle-2/
URL:https://mediatheques.villeurbanne.fr/agenda/events/atelier-de-dessin-zentangle-2/
END:VEVENT
END:VCALENDAR