BEGIN:VCALENDAR
VERSION:2.0
PRODID:-//eventon.com NONSGML v1.0//EN
CALSCALE:GREGORIAN
METHOD:PUBLISH
BEGIN:VEVENT
UID:69e9430cd0531
DTSTAMP:20260422T215212Z
DTSTART:20260613T140000Z
DTEND:20260613T160000Z
LOCATION:Maison du livre\,  de l'image et du son 247 cours émile Zola\,  Villeurbanne
SUMMARY:Rencontre avec Stéphane Carlier
DESCRIPTION:La médiathèque vous propose de rencontrer Stéphane Carlier\,
   auteur notamment de Clara lit Proust et La vie n'est pas un romans de Sus
 an Cooper et dont le prochain livre Ce qui est arrivé à la célèbre actr
 ice blonde parait en avril 2026. Cette rencontre\,  imaginée et coconstrui
 te par une modératrice[..]\nhttps://mediatheques.villeurbanne.fr/agenda/ev
 ents/rencontre-avec-un-auteur/
URL:https://mediatheques.villeurbanne.fr/agenda/events/rencontre-avec-un-auteur/
END:VEVENT
END:VCALENDAR