BEGIN:VCALENDAR
VERSION:2.0
PRODID:-//eventon.com NONSGML v1.0//EN
CALSCALE:GREGORIAN
METHOD:PUBLISH
BEGIN:VEVENT
UID:69e942bea5fe6
DTSTAMP:20260422T215054Z
DTSTART:20260704T120000Z
DTEND:20260704T160000Z
LOCATION:mÃ©diathÃ¨que du Tonkin
SUMMARY:DJ low tech - vÃ©lo platine vinyle au Tonkin [Vivez l'Ã©tÃ©]
DESCRIPTION:Trouvez le rythme Ã  partir de vos guiboles ! Une scÃ¨ne\,  un 
 DJ\,  deux vÃ©los reliÃ©s Ã  une platine vinyle\,  c'est ce que vous propos
 e l'artiste low tech MÃ©tal BrÃ»lant ! Enfourchez le vÃ©lo\,  et pÃ©dalez Ã
   la bonne vitesse pour jouer la musique du vinyle de votre choix. Et[..]\n
 https://mediatheques.villeurbanne.fr/agenda/events/dj-low-tech-velo-platine
 -vinyle-au-tonkin/
URL:https://mediatheques.villeurbanne.fr/agenda/events/dj-low-tech-velo-platine-vinyle-au-tonkin/
END:VEVENT
END:VCALENDAR