BEGIN:VCALENDAR
VERSION:2.0
PRODID:-//eventon.com NONSGML v1.0//EN
CALSCALE:GREGORIAN
METHOD:PUBLISH
BEGIN:VEVENT
UID:69e4e99bf1827
DTSTAMP:20260419T144131Z
DTSTART:20260528T080000Z
DTEND:20260528T093000Z
LOCATION:mÃ©diathÃ¨que du Tonkin
SUMMARY:Organiser et gÃ©rer ses fichiers et ses dossiers
DESCRIPTION:Sur inscription en cliquant ici. Ouverture des inscriptions 15 
 jours avant la date de lâ€™Ã©vÃ©nement. Copier\,  coller\,  dÃ©placer\,  su
 pprimer\,  crÃ©er\,  transfÃ©rer\,  la magie du rangement des fichiers et d
 ossiers nâ€™aura plus aucun secret pour vous Ã  lâ€™issue de cet atelier. Â
  \nhttps://mediatheques.villeurbanne.fr/agenda/events/organiser-et-gerer-se
 s-fichiers-et-ses-dossiers-annule-copy/
URL:https://mediatheques.villeurbanne.fr/agenda/events/organiser-et-gerer-ses-fichiers-et-ses-dossiers-annule-copy/
END:VEVENT
END:VCALENDAR