BEGIN:VCALENDAR
VERSION:2.0
PRODID:-//eventon.com NONSGML v1.0//EN
CALSCALE:GREGORIAN
METHOD:PUBLISH
BEGIN:VEVENT
UID:69e9435dbc30f
DTSTAMP:20260422T215333Z
DTSTART:20260417
DTEND:20260418
LOCATION:Arrêts de bibliobus jeunesse
SUMMARY:Création de couronnes : ateliers itinérants [Fête du livre jeunesse]
DESCRIPTION:La Fête du livre jeunesse voyage à travers des ateliers créa
 tifs aux arrêts de bibliobus jeunesse. Choisissez vos éléments\,  assemb
 lez votre couronne… et entrez dans le royaume de l’Eau\,  du Feu\,  de 
 l’Air et de la Terre !\nhttps://mediatheques.villeurbanne.fr/agenda/event
 s/ateliers-itinerants-creation-de-couronnes/
URL:https://mediatheques.villeurbanne.fr/agenda/events/ateliers-itinerants-creation-de-couronnes/
END:VEVENT
END:VCALENDAR