BEGIN:VCALENDAR
VERSION:2.0
PRODID:-//eventon.com NONSGML v1.0//EN
CALSCALE:GREGORIAN
METHOD:PUBLISH
BEGIN:VEVENT
UID:69e943a2a37b8
DTSTAMP:20260422T215442Z
DTSTART:20260625T074500Z
DTEND:20260625T081500Z
LOCATION:médiathèque du Rize 23 Rue Valentin Hauy\,  69100 Villeurbanne
SUMMARY:Musicâlins (1)
DESCRIPTION:Sur inscription une semaine avant à 14h . (inscription limité
 e à 2 séances de septembre à janvier). Avec Floriane Lorenzi\,  un temps
  d’éveil musical pour les tout-petits\,  un moment d’écoute\,  de par
 tage parents-enfants autour de l’éveil musical.\nhttps://mediatheques.vi
 lleurbanne.fr/agenda/events/musicalins-1-8/
URL:https://mediatheques.villeurbanne.fr/agenda/events/musicalins-1-8/
END:VEVENT
END:VCALENDAR