BEGIN:VCALENDAR
VERSION:2.0
PRODID:-//eventon.com NONSGML v1.0//EN
CALSCALE:GREGORIAN
METHOD:PUBLISH
BEGIN:VEVENT
UID:69e942513ab44
DTSTAMP:20260422T214905Z
DTSTART:20260606T130000Z
DTEND:20260606T134500Z
LOCATION:médiathèque du Rize 23 Rue Valentin Hauy\,  69100 Villeurbanne
SUMMARY:La fausse note
DESCRIPTION:Sur inscription en cliquant ici. Merci d’inscrire tous les pa
 rticipants\,  enfants et parents. Le rendez-vous pour faire vibrer les plus
  petits autour de la pratique musicale et l’écoute. Avec des gestes simp
 les et des activités ludiques pour ressentir la musique sans instruments c
 omplexes.\nhttps://mediatheques.villeurbanne.fr/agenda/events/la-fausse-not
 e/
URL:https://mediatheques.villeurbanne.fr/agenda/events/la-fausse-note/
END:VEVENT
END:VCALENDAR