BEGIN:VCALENDAR
VERSION:2.0
PRODID:-//eventon.com NONSGML v1.0//EN
CALSCALE:GREGORIAN
METHOD:PUBLISH
BEGIN:VEVENT
UID:69e942de6998a
DTSTAMP:20260422T215126Z
DTSTART:20260606T083000Z
DTEND:20260606T090000Z
LOCATION:médiathèque du Rize 23 Rue Valentin Hauy\,  69100 Villeurbanne
SUMMARY:Rize câlins
DESCRIPTION:Sur inscription en cliquant ici Un moment de complicité en fam
 ille pour découvrir les plaisirs du livre dès le plus jeune âge. Écoute
 r une histoire\,  chanter\,  découvrir des instruments de musique… Tout 
 est propice à l’émerveillement et à la rêverie. Un temps parent-enfan
 t est prévu en fin de la séance[..]\nhttps://mediatheques.villeurbanne.fr
 /agenda/events/rize-calins-3/
URL:https://mediatheques.villeurbanne.fr/agenda/events/rize-calins-3/
END:VEVENT
END:VCALENDAR