BEGIN:VCALENDAR
VERSION:2.0
PRODID:-//eventon.com NONSGML v1.0//EN
CALSCALE:GREGORIAN
METHOD:PUBLISH
BEGIN:VEVENT
UID:69e9427801dd3
DTSTAMP:20260422T214944Z
DTSTART:20260523T083000Z
DTEND:20260523T100000Z
LOCATION:médiathèque du Rize 23 Rue Valentin Hauy\,  69100 Villeurbanne
SUMMARY:Club lectures jeunes
DESCRIPTION:Sur inscription en cliquant ici Le p'tit-déjeuner du club lect
 ure ! Venez échanger sur vos lectures (romans\,  BD\,  mangas…) et vos c
 oups de cœur autour d’un sirop et des p’tits biscuits. Il y en aura po
 ur tous les goûts.\nhttps://mediatheques.villeurbanne.fr/agenda/events/clu
 b-lectures-jeunes-2/
URL:https://mediatheques.villeurbanne.fr/agenda/events/club-lectures-jeunes-2/
END:VEVENT
END:VCALENDAR