BEGIN:VCALENDAR
VERSION:2.0
PRODID:-//eventon.com NONSGML v1.0//EN
CALSCALE:GREGORIAN
METHOD:PUBLISH
BEGIN:VEVENT
UID:69e9426c3aac2
DTSTAMP:20260422T214932Z
DTSTART:20260316T150000Z
DTEND:20260502T160000Z
LOCATION:Maison du livre\,  de l'image et du son 247 cours émile Zola\,  Villeurbanne
SUMMARY:Dans la matière [Fête du livre jeunesse]
DESCRIPTION:Autrice et illustratrice\,  Marie Mirgaine nous invite à entre
 r dans un univers rempli d’histoires et de personnages en papiers découp
 és.  Découvrez ses livres et son processus de création. À partir d’e
 xpérimentations\,  se laissant porter par le hasard du mouvement et de la 
 matière\,  l’illustratrice sculpte un univers organique\,  jouant sur[..
 ]\nhttps://mediatheques.villeurbanne.fr/agenda/events/dans-la-matiere-fete-
 du-livre-jeunesse/
URL:https://mediatheques.villeurbanne.fr/agenda/events/dans-la-matiere-fete-du-livre-jeunesse/
END:VEVENT
END:VCALENDAR