BEGIN:VCALENDAR
VERSION:2.0
PRODID:-//eventon.com NONSGML v1.0//EN
CALSCALE:GREGORIAN
METHOD:PUBLISH
BEGIN:VEVENT
UID:69e942520c72b
DTSTAMP:20260422T214906Z
DTSTART:20260620T083000Z
DTEND:20260620T100000Z
LOCATION:Maison du livre\,  de l'image et du son 247 cours émile Zola\,  Villeurbanne
SUMMARY:Prix Lire pour agir : le vote !
DESCRIPTION:Sur inscription en cliquant ici (ouverture un mois avant) Le pr
 ix Lire pour agir récompense chaque année un livre sur le thème de la tr
 ansition écologique. L’objectif est de voter pour l’ouvrage qui nous d
 onne le plus envie d’agir pour la préservation de l’environnement. Lor
 s de ce deuxième rendez-vous\,  partagez[..]\nhttps://mediatheques.villeur
 banne.fr/agenda/events/deuxieme-seance-du-prix-lire-pour-agir-le-vote/
URL:https://mediatheques.villeurbanne.fr/agenda/events/deuxieme-seance-du-prix-lire-pour-agir-le-vote/
END:VEVENT
END:VCALENDAR