BEGIN:VCALENDAR
VERSION:2.0
PRODID:-//eventon.com NONSGML v1.0//EN
CALSCALE:GREGORIAN
METHOD:PUBLISH
BEGIN:VEVENT
UID:69e942777fbba
DTSTAMP:20260422T214943Z
DTSTART:20260521T163000Z
DTEND:20260521T180000Z
LOCATION:médiathèque du Rize 23 Rue Valentin Hauy\,  69100 Villeurbanne
SUMMARY:Aqua Rize : spécial Prix Totem
DESCRIPTION:Sur inscription sur le site du Rize Une visite de l’expositio
 n enrichie de lectures à deux voix d’extraits choisis parmi les ouvrages
  sélectionnés pour la 1ère édition du prix littéraire Totem\,  organis
 é par le Rize en lien avec la saison Aqua Rize. Une belle opportunité de 
 plonger dans l’imaginaire d’autrices[..]\nhttps://mediatheques.villeurb
 anne.fr/agenda/events/aqua-rize-special-prix-totem/
URL:https://mediatheques.villeurbanne.fr/agenda/events/aqua-rize-special-prix-totem/
END:VEVENT
END:VCALENDAR