BEGIN:VCALENDAR
VERSION:2.0
PRODID:-//eventon.com NONSGML v1.0//EN
CALSCALE:GREGORIAN
METHOD:PUBLISH
BEGIN:VEVENT
UID:69e9429b7d811
DTSTAMP:20260422T215019Z
DTSTART:20260425T083000Z
DTEND:20260425T100000Z
LOCATION:médiathèque du Rize 23 Rue Valentin Hauy\,  69100 Villeurbanne
SUMMARY:Ça s'la joue malin !
DESCRIPTION:Sur inscription en cliquant ici Selon le rendez-vous\,  des jeu
 x de société sont proposés pour tous les goûts et les âges ! Un temps 
 d'échanges et de partage enfants-parents autour des jeux. Vous voulez nous
  faire découvrir votre jeu préféré\,  il est le bienvenu ! En famille d
 e 6 à[..]\nhttps://mediatheques.villeurbanne.fr/agenda/events/ca-sla-joue-
 malin-copy/
URL:https://mediatheques.villeurbanne.fr/agenda/events/ca-sla-joue-malin-copy/
END:VEVENT
END:VCALENDAR