BEGIN:VCALENDAR
VERSION:2.0
PRODID:-//eventon.com NONSGML v1.0//EN
CALSCALE:GREGORIAN
METHOD:PUBLISH
BEGIN:VEVENT
UID:69e94299e0724
DTSTAMP:20260422T215017Z
DTSTART:20260424T083000Z
DTEND:20260424T100000Z
LOCATION:mÃ©diathÃ¨que du Rize 23 Rue Valentin Hauy\,  69100 Villeurbanne
SUMMARY:Ne plus se noyer dans lâ€™infâ€™eau
DESCRIPTION:Sur inscription en cliquant ici ou Ã  l'accueil du Rize Comment
  sâ€™informer sereinement dans un monde oÃ¹ tout sâ€™accÃ©lÃ¨reÂ et disting
 uer le vrai du "fâ€™eau" de lâ€™infoÂ ? Enfilons bouÃ©es et brassards numÃ©
 riques pour ne plus patauger dans lâ€™info. Un temps dâ€™Ã©changes et de dÃ
 ©couverte autour des mÃ©dias en ligne&nbsp;!\nhttps://mediatheques.villeurb
 anne.fr/agenda/events/ne-plus-se-noyer-dans-linfeau/
URL:https://mediatheques.villeurbanne.fr/agenda/events/ne-plus-se-noyer-dans-linfeau/
END:VEVENT
END:VCALENDAR