BEGIN:VCALENDAR
VERSION:2.0
PRODID:-//eventon.com NONSGML v1.0//EN
CALSCALE:GREGORIAN
METHOD:PUBLISH
BEGIN:VEVENT
UID:69e9431114af1
DTSTAMP:20260422T215217Z
DTSTART:20260425T080000Z
DTEND:20260425T110000Z
LOCATION:médiathèque du Tonkin
SUMMARY:Bruitage\,  musique et voix off : initiation [Fête du livre jeunesse] - COMPLET
DESCRIPTION:Sur inscription en cliquant ici ou par téléphone au 04 78 89 
 78 90. Ouverture des inscriptions 15 jours avant l'évènement. Comment res
 tituer le son des éléments&nbsp;: le bois qui crépite\,  le vent dans le
 s arbres\,  le ruissellement d’un filet d’eau ? Cet atelier propose de 
 venir écouter le son[..]\nhttps://mediatheques.villeurbanne.fr/agenda/even
 ts/bruitage-musique-et-voix-off-initiation-fete-du-livre-jeunesse/
URL:https://mediatheques.villeurbanne.fr/agenda/events/bruitage-musique-et-voix-off-initiation-fete-du-livre-jeunesse/
END:VEVENT
END:VCALENDAR