BEGIN:VCALENDAR
VERSION:2.0
PRODID:-//eventon.com NONSGML v1.0//EN
CALSCALE:GREGORIAN
METHOD:PUBLISH
BEGIN:VEVENT
UID:69e943a30464b
DTSTAMP:20260422T215443Z
DTSTART:20260624T080000Z
DTEND:20260624T100000Z
LOCATION:médiathèque du Tonkin
SUMMARY:On joue ?
DESCRIPTION:Une séance de découverte des jeux en libre accès sans inscri
 ption à la médiathèque du Tonkin pour un temps d'échange convivial.  \
 nhttps://mediatheques.villeurbanne.fr/agenda/events/on-joue/
URL:https://mediatheques.villeurbanne.fr/agenda/events/on-joue/
END:VEVENT
END:VCALENDAR